BEGIN:VCALENDAR
VERSION:2.0
PRODID:-//162.241.226.142//NONSGML kigkonsult.se iCalcreator 2.26.9//
CALSCALE:GREGORIAN
METHOD:PUBLISH
X-FROM-URL:https://pflagphoenix.org
X-WR-TIMEZONE:America/Phoenix
BEGIN:VTIMEZONE
TZID:America/Phoenix
X-LIC-LOCATION:America/Phoenix
BEGIN:STANDARD
DTSTART:19671029T020000
TZOFFSETFROM:-0600
TZOFFSETTO:-0700
TZNAME:MST
END:STANDARD
END:VTIMEZONE
BEGIN:VEVENT
UID:ai1ec-3585@pflagphoenix.org
DTSTAMP:20260423T140712Z
CATEGORIES:
CONTACT:
DESCRIPTION:<p>The meetings are held on a platform called Zoom.</p>\n<p>Ple
 ase RSVP’s here:  <a href='https://linktr.ee/pflagphoenix' target='_blank'
  rel='noopener'>linktr.ee/pflagphoenix</a> .<br />\nOnce you RSVP\, you wi
 ll receive a link to the virtual room.</p>\n<p>We look forward to seeing y
 ou again!</p>
DTSTART;TZID=America/Phoenix:20230423T190000
DTEND;TZID=America/Phoenix:20230423T203000
RRULE:FREQ=MONTHLY;BYDAY=4SU
SEQUENCE:0
SUMMARY:Virtual PFLAG Phx Support Meeting
URL:https://pflagphoenix.org/event/virtual-pflag-phx-support-meeting-3/
X-COST-TYPE:free
END:VEVENT
BEGIN:VEVENT
UID:ai1ec-2016@pflagphoenix.org
DTSTAMP:20260423T140712Z
CATEGORIES:
CONTACT:
DESCRIPTION:<p>More info on the meeting and location can be found <a href='
 https://pflagphoenix.org/board-of-directors/'>here</a>.</p>
DTSTART;TZID=America/Phoenix:20230506T120000
DTEND;TZID=America/Phoenix:20230506T140000
GEO:+33.481893;-112.030982
LOCATION:Biltmore Office Plaza @ 2942 N 24th St\, Phoenix\, AZ 85016\, USA
RRULE:FREQ=MONTHLY;INTERVAL=2;BYDAY=1SA
SEQUENCE:0
SUMMARY:PFLAG Phoenix Board of Directors meeting
URL:https://pflagphoenix.org/event/pflag-phoenix-board-of-directors-meeting
 -6/
X-COST-TYPE:free
END:VEVENT
BEGIN:VEVENT
UID:ai1ec-3584@pflagphoenix.org
DTSTAMP:20260423T140712Z
CATEGORIES:
CONTACT:
DESCRIPTION:<p>The meetings are held on a platform called Zoom.</p>\n<p>Ple
 ase RSVP’s here: <a href='https://linktr.ee/pflagphoenix' target='_blank' 
 rel='noopener'>linktr.ee/pflagphoenix</a>.<br />\nOnce you RSVP\, you will
  receive a link to the virtual room.</p>\n<p>We look forward to seeing you
  again!</p>
DTSTART;TZID=America/Phoenix:20230509T190000
DTEND;TZID=America/Phoenix:20230509T203000
RRULE:FREQ=MONTHLY;BYDAY=2TU
SEQUENCE:0
SUMMARY:Virtual PFLAG Phx Support Meeting
URL:https://pflagphoenix.org/event/virtual-pflag-phx-support-meeting-2/
X-COST-TYPE:free
END:VEVENT
BEGIN:VEVENT
UID:ai1ec-1520@pflagphoenix.org
DTSTAMP:20260423T140712Z
CATEGORIES:
CONTACT:
DESCRIPTION:<p><em><strong>Men of Charlie’s is PFLAG Phoenix’s biggest supp
 orter!</strong></em> So we would love it if you could join PFLAG Phoenix e
 very first Saturday of the month at <em><strong>Men of </strong></em><stro
 ng><em>Charlie’s Bar</em></strong> for the presenting of a check to <em>PF
 LAG Phoenix</em> one month and <em>The Johsua Tree Feeding Program</em> (a
 n organization that feeds & supports the HIV/AIDS community in Phoenix) th
 e next month. The check represents the proceeds from a fun monthly contest
  Charlie’s puts on that night. By being there you will be showing your sup
 port for two great organizations and having a great time doing it! There i
 s no cover charge if you tell them at the door that you are with PFLAG tha
 t night and you are there for the contest. So come and have fun\, meet the
  <strong><em>Men of Charlie’s</em></strong>\, and show your support!!</p>
DTSTART;TZID=America/Phoenix:20230513T210000
DTEND;TZID=America/Phoenix:20230513T220000
GEO:+33.508967;-112.08361
LOCATION:Charlie's Bar @ 727 W Camelback Rd\, Phoenix\, AZ 85013\, USA
RRULE:FREQ=MONTHLY;BYDAY=2SA
SEQUENCE:0
SUMMARY:Men of Charlie’s Bar Event
URL:https://pflagphoenix.org/event/charlies-bar-event/
X-COST-TYPE:free
END:VEVENT
END:VCALENDAR
